BEGIN:VCALENDAR
PRODID:NingEventWidget-v1
VERSION:2.0
METHOD:PUBLISH
BEGIN:VTIMEZONE
TZID:America/Los_Angeles
X-LIC-LOCATION:America/Los_Angeles
BEGIN:DAYLIGHT
TZOFFSETFROM:-0800
TZOFFSETTO:-0700
TZNAME:PDT
DTSTART:19700308T020000
RRULE:FREQ=YEARLY;BYMONTH=3;BYDAY=2SU
END:DAYLIGHT
BEGIN:STANDARD
TZOFFSETFROM:-0700
TZOFFSETTO:-0800
TZNAME:PST
DTSTART:19701101T020000
RRULE:FREQ=YEARLY;BYMONTH=11;BYDAY=1SU
END:STANDARD
END:VTIMEZONE
BEGIN:VEVENT
UID:2228296:Event:2461371
DTSTAMP:20260421T122208Z
SUMMARY:Reputation Shield UAE
DESCRIPTION:Reputation Shield AE is a well-known company in the online
  digital Company, which helps a brand expand through social media mark
 eting solutions customized for the UAE market. As social media marketi
 ng experts in Dubai, we create customized solutions, including strateg
 ies to increase visibility, stimulate engagement, and build a brand's 
 highly recognized presence over different platforms such as Instagram,
  LinkedIn, and TikTok. Our successful work speaks for itself; our team
  merges creativity and data-driven insight to create stirring campaign
 s that adopt your brand voice, resonate with your audience, and yield 
 actual measurable results.\n\nFor more information visit http://healin
 gxchange.ning.com/events/reputation-shield-uae
DTSTART;TZID=America/Los_Angeles:20250903T180000
DTEND;TZID=America/Los_Angeles:20250903T190000
CATEGORIES:marketing
LOCATION:5705 Jassim Al-Saqia Street, Apartment No. 56 Sakaka
WEBSITE:https://www.reputationshield.ae/
URL:https://www.reputationshield.ae/
CONTACT:+971542265592
ORGANIZER;CN="Yasser Badhaz":http://healingxchange.ning.com/profile/Ya
 sserBadhaz
ATTACH;FMTTYPE="image/jpeg":
ATTENDEE;ROLE=REQ-PARTICIPANT;PARTSTAT=ACCEPTED;RSVP=TRUE;CN="Yasser B
 adhaz":http://healingxchange.ning.com/profile/YasserBadhaz
END:VEVENT
END:VCALENDAR
