BEGIN:VCALENDAR
PRODID:NingEventWidget-v1
VERSION:2.0
METHOD:PUBLISH
BEGIN:VTIMEZONE
TZID:America/Los_Angeles
X-LIC-LOCATION:America/Los_Angeles
BEGIN:DAYLIGHT
TZOFFSETFROM:-0800
TZOFFSETTO:-0700
TZNAME:PDT
DTSTART:19700308T020000
RRULE:FREQ=YEARLY;BYMONTH=3;BYDAY=2SU
END:DAYLIGHT
BEGIN:STANDARD
TZOFFSETFROM:-0700
TZOFFSETTO:-0800
TZNAME:PST
DTSTART:19701101T020000
RRULE:FREQ=YEARLY;BYMONTH=11;BYDAY=1SU
END:STANDARD
END:VTIMEZONE
BEGIN:VEVENT
UID:2228296:Event:2013320
DTSTAMP:20260423T170511Z
SUMMARY:Apakah Anda Berpikir Untuk Memanfaatkan Daftar Secara Efektif?
DESCRIPTION:Slot Mahadewa88 bersinar menggunakan dunia perjudian onlin
 e di mana konsistensi adalah yang paling penting, menyediakan berbagai
  permainan gratis di lingkungan yang aman melalui jaringan layanan pel
 anggan kelas satu bersama dengan add-on yang murah hati untuk meningka
 tkan uang Anda. Selain itu, orang-orang ini tetap setia pada surat izi
 n mengemudi yang masuk akal sambil tetap berpegang pada peraturan dan 
 peraturan arena yang ketat dengan cara menyelamatkan informasi orang s
 aat Anda mempersiapkan kesuksesan yang menurut Anda besar ditambah den
 gan kemandirian.\nSlot Mahadewa88 menyediakan beragam permainan gratis
  ditambah cpanel intuitif, membuat situs ini dapat diakses oleh pelaja
 r dan juga individu veteran. Sekali lagi, perisai inovasi enkripsi can
 ggihnya memastikan fakta dan pertukaran individu tidak berbahaya. Terl
 ebih lagi, ia memiliki struktur perangkat ponsel yang dapat membuat be
 rsenang-senang tersedia dan sederhana, tidak masalah para master bersa
 ing! Yang perlu paham tentang Link mahadewa88 atau detail lainnya yaki
 n bisa berkunjung kesini.\nMahadewa88 menonjol sebagai salah satu bisn
 is taruhan online dengan tekad mereka untuk bertahan dalam permainan o
 nline yang teliti, yang menawarkan sumber daya dan alat yang memungkin
 kan musisi untuk mengontrol tindakan taruhan unik mereka dan menghinda
 ri taruhan kondisi. Selain itu, mahadewa88 adalah bagian dari Tokoh Ha
 ti-hati Kasino Bawah Utama yang mendunia khusus untuk menghimbau rutin
 itas permainan yang hati-hati agar dapat membantu orang-orang yang men
 derita akibat usaha permainan seseorang.\nApakah Anda mencari teknik r
 isiko yang fantastis dan beragam melalui internet? mahadewa88 memberik
 an pengganti yang mendebarkan. Situs ini memiliki beragam slot pelatih
 an video, kartu debit terkemuka, atau peluang bermain permainan hibura
 n olahraga, dan langkah-langkah keamanan yang kuat menggunakan penawar
 an bonus menguntungkan yang menjadikan mahadewa88 pilihan menarik bagi
  para master dari sebagian besar tingkat keahlian. Tim olahraga layana
 n dukungan Mahadewa88 dapat memperoleh keuntungan signifikan dengan me
 nggunakan halaman web mereka, siap membantu Anda 24/7 untuk menjawab p
 ertanyaan dan menyebutkan kondisi lokasi secara efektif. Mereka pasti 
 dapat dijangkau hanya dengan melakukan obrolan di rumah, kotak masuk, 
 dan juga panggilan mengenai layanan cepat kapan saja diperlukan. Lampu
  depan daftar mahadewa88 ini theshoppingaround.com terdapat pada webl
 ink.\n\nKontes slot Mahadewa88 biasanya karena templatenya yang beraga
 m, memberi Anda pengalaman unik untuk setiap liburan. Dengan penutup l
 antai kasino online yang benar-benar tips chemin de fer dan lebih dari
  itu. Karena mahadewa88 dilengkapi dengan ide-ide mendalam, fitur bonu
 s akun baru yang menantang ditambah ketekunan untuk keadilan dan bahka
 n keamanan, ini menjadikannya tempat online yang tidak boleh dilewatka
 n! Mahadewa88 dapat memberikan banyak uang muka dan metode yang sesuai
  dengan kebutuhan Anda, sehingga Anda dapat menemukan yang paling sesu
 ai dengan kebutuhan Anda. Metode yang Anda gunakan dapat mencakup peng
 gunaan kartu debit atau kredit, transmisi perusahaan pinjaman, atau ba
 hkan dompet elektronik untuk membeli rekening bank Anda; di sisi lain 
 Anda dapat mencoba cara permainan gratis yang tersedia untuk memahami 
 dengan tepat bagaimana segala sesuatunya berlanjut sebelum sekarang me
 masukkan uang tunai ke dalamnya.\n\nFor more information visit https:/
 /healingxchange.ning.com/events/apakah-anda-berpikir-untuk-memanfaatka
 n-daftar-secara-efektif
DTSTART;TZID=America/Los_Angeles:20240622T180000
DTEND;TZID=America/Los_Angeles:20241010T190000
CATEGORIES:mahadewa88
LOCATION:Indonesia
WEBSITE:https://theshoppingaround.com
URL:https://theshoppingaround.com
CONTACT:
ORGANIZER;CN="Rod amser":https://healingxchange.ning.com/profile/Rodam
 ser
ATTACH;FMTTYPE="image/jpeg":https://storage.ning.com/topology/rest/1.0
 /file/get/12669225452?profile=original
ATTENDEE;ROLE=REQ-PARTICIPANT;PARTSTAT=ACCEPTED;RSVP=TRUE;CN="Rod amse
 r":https://healingxchange.ning.com/profile/Rodamser
END:VEVENT
END:VCALENDAR
