BEGIN:VCALENDAR
PRODID:NingEventWidget-v1
VERSION:2.0
METHOD:PUBLISH
BEGIN:VTIMEZONE
TZID:America/Los_Angeles
X-LIC-LOCATION:America/Los_Angeles
BEGIN:DAYLIGHT
TZOFFSETFROM:-0800
TZOFFSETTO:-0700
TZNAME:PDT
DTSTART:19700308T020000
RRULE:FREQ=YEARLY;BYMONTH=3;BYDAY=2SU
END:DAYLIGHT
BEGIN:STANDARD
TZOFFSETFROM:-0700
TZOFFSETTO:-0800
TZNAME:PST
DTSTART:19701101T020000
RRULE:FREQ=YEARLY;BYMONTH=11;BYDAY=1SU
END:STANDARD
END:VTIMEZONE
BEGIN:VEVENT
UID:2228296:Event:2380280
DTSTAMP:20260425T055308Z
SUMMARY:Gsc 108 Slot – Baca Ulasan Asli Sekarang!
DESCRIPTION:Jika Anda mencari pengalaman slot online yang baru dan ser
 u, Slot Gsc108 adalah pilihan terbaik. Sebagai salah satu platform gam
 e online paling terkenal, Slot Gsc 108 menawarkan beragam pilihan perm
 ainan yang menawarkan permainan lancar dan fitur-fitur yang ramah peng
 guna. Dapat dinikmati oleh pemula maupun veteran. Permainan ini semaki
 n diminati karena koleksi permainannya yang luas, bonus menarik, dan k
 omitmen untuk menyediakan permainan yang aman dan menyenangkan bagi se
 tiap pemain. Jika Anda bermain untuk hiburan atau mencari kemenangan b
 esar, platform Slot Gsc108 memastikan setiap sesi perjudian penuh deng
 an kesenangan dan kegembiraan.\n\nSalah satu fitur utama bagi pemain d
 i Slot Gsc 108 adalah beragamnya pilihan mesin slot yang tersedia. And
 a dapat mencoba slot klasik, slot video modern, dan slot jackpot yang 
 menawarkan pembayaran tinggi. Setiap permainan menampilkan grafis yang
  memukau, suara yang dirancang dengan baik, dan mekanisme permainan ya
 ng halus yang akan membuat pemain terhibur selama berjam-jam. Platform
  ini secara berkala memperbarui katalog game untuk memuat semua game t
 erbaru yang dirilis oleh penyedia perangkat lunak berkualitas tinggi, 
 memastikan para pemain selalu dapat menemukan sesuatu yang baru untuk 
 dijelajahi. Variasi dan kualitas permainan yang tersedia di Gsc108 Slo
 t menjadikannya pilihan yang menonjol bagi para pemain online.\n\nManf
 aat utama lainnya bermain di Gsc 108 Slot adalah beragamnya promosi da
 n promosi yang ditawarkan kepada para pemain. Dari penawaran selamat d
 atang untuk pemain baru hingga promosi rutin untuk pemain setia, ada b
 anyak peluang yang dapat meningkatkan uang Anda. Bonus-bonus ini serin
 g kali mencakup putaran gratis, bonus deposit, serta penawaran cashbac
 k yang masing-masing dapat meningkatkan pengalaman bermain secara kese
 luruhan. Jika mereka memanfaatkan jenis promosi ini, pemain dapat memb
 uat permainan mereka lebih menyenangkan dan meningkatkan peluang menan
 g tanpa mengeluarkan banyak uang di muka.\n\nKeamanan adalah prioritas
  utama di Gsc108 Gaming. Platform ini menggunakan teknologi enkripsi m
 utakhir yang melindungi detail pribadi dan keuangan pengguna. Komitmen
  terhadap keamanan ini memastikan bahwa para pemain dapat menikmati se
 mua permainan favorit mereka tanpa khawatir karena semua informasi mer
 eka aman dari ancaman apa pun. Platform ini mendorong permainan yang b
 ertanggung jawab dengan menawarkan alat dan sumber daya untuk membantu
  para pemain mengelola kebiasaan berjudi mereka secara efektif.\n\nKem
 udahan penggunaan merupakan fitur utama lain yang menjadi keunggulan G
 SC 108 Slot. Perangkat lunak ini dirancang untuk bekerja dengan berbag
 ai perangkat seluler, termasuk laptop dan desktop, ponsel, tablet, ser
 ta ponsel pintar. Hal ini memungkinkan pemain untuk memainkan permaina
 n slot favorit mereka kapan saja, di mana saja, tanpa terikat pada per
 angkat tertentu. Situs yang dioptimalkan untuk seluler memberikan peng
 alaman bermain yang imersif dengan fitur dan opsi yang sama dengan ver
 si desktop.\n\nJika Anda mencari pengalaman jejaring sosial, GSC108 Sl
 ot menyediakan lingkungan yang menarik di mana pengguna dapat berbagi 
 kiat dan berbagi kemenangan dalam grup. GSC108 Slot sering mengadakan 
 turnamen dan acara khusus, memberikan lapisan keseruan dan kompetisi t
 ambahan dalam perjudian.\n\n\n\nFor more information visit https://hea
 lingxchange.ning.com/events/gsc-108-slot-baca-ulasan-asli-sekarang
DTSTART;TZID=America/Los_Angeles:20250722T180000
DTEND;TZID=America/Los_Angeles:20260722T190000
CATEGORIES:gsc, 108
LOCATION:indonesia
WEBSITE:https://ruuvi.it.com/
URL:https://ruuvi.it.com/
CONTACT:
ORGANIZER;CN=Ackessech:https://healingxchange.ning.com/profile/Ackesse
 ch
ATTACH;FMTTYPE="image/jpeg":https://storage.ning.com/topology/rest/1.0
 /file/get/13668671669?profile=original
ATTENDEE;ROLE=REQ-PARTICIPANT;PARTSTAT=ACCEPTED;RSVP=TRUE;CN=Ackessech
 :https://healingxchange.ning.com/profile/Ackessech
END:VEVENT
END:VCALENDAR
