BEGIN:VCALENDAR
PRODID:NingEventWidget-v1
VERSION:2.0
METHOD:PUBLISH
BEGIN:VTIMEZONE
TZID:America/Los_Angeles
X-LIC-LOCATION:America/Los_Angeles
BEGIN:DAYLIGHT
TZOFFSETFROM:-0800
TZOFFSETTO:-0700
TZNAME:PDT
DTSTART:19700308T020000
RRULE:FREQ=YEARLY;BYMONTH=3;BYDAY=2SU
END:DAYLIGHT
BEGIN:STANDARD
TZOFFSETFROM:-0700
TZOFFSETTO:-0800
TZNAME:PST
DTSTART:19701101T020000
RRULE:FREQ=YEARLY;BYMONTH=11;BYDAY=1SU
END:STANDARD
END:VTIMEZONE
BEGIN:VEVENT
UID:2228296:Event:2444756
DTSTAMP:20260420T034028Z
SUMMARY:Rolling Down the Infinite Slope: A Guide to Enjoying Slope Gam
 e
DESCRIPTION:Have you ever wanted Slope Game! This surprisingly addicti
 ve web browser game is the perfect way to kill time, challenge your re
 flexes, and maybe even scream at your computer (just a little!).\nIn t
 his article, we'll dive into the world of Slope\nUnderstanding the Des
 cent: Gameplay Basics\nThe premise of Slope Game is incredibly simple:
  you control a ball rolling down an endlessly generated slope. Your go
 al? To avoid obstacles and survive for as long as possible. That's it!
  No complicated storylines, no power-ups to collect (well, almost none
 , we’ll get to that later), just pure, unadulterated rolling action.
 \n\nFor more information visit https://healingxchange.ning.com/events/
 rolling-down-the-infinite-slope-a-guide-to-enjoying-slope-game
DTSTART;TZID=America/Los_Angeles:20250823T180000
DTEND;TZID=America/Los_Angeles:20251031T190000
CATEGORIES:online
LOCATION:Liberty Island, NY 10004, USA Central Park
WEBSITE:https://slopegame.lol
URL:https://slopegame.lol
CONTACT:17404210504
ORGANIZER;CN=Wagnera:https://healingxchange.ning.com/profile/Wagnera
ATTACH;FMTTYPE="image/jpeg":
ATTENDEE;ROLE=REQ-PARTICIPANT;PARTSTAT=ACCEPTED;RSVP=TRUE;CN=Wagnera:h
 ttps://healingxchange.ning.com/profile/Wagnera
END:VEVENT
END:VCALENDAR
