BEGIN:VCALENDAR
PRODID:NingEventWidget-v1
VERSION:2.0
METHOD:PUBLISH
BEGIN:VTIMEZONE
TZID:America/Los_Angeles
X-LIC-LOCATION:America/Los_Angeles
BEGIN:DAYLIGHT
TZOFFSETFROM:-0800
TZOFFSETTO:-0700
TZNAME:PDT
DTSTART:19700308T020000
RRULE:FREQ=YEARLY;BYMONTH=3;BYDAY=2SU
END:DAYLIGHT
BEGIN:STANDARD
TZOFFSETFROM:-0700
TZOFFSETTO:-0800
TZNAME:PST
DTSTART:19701101T020000
RRULE:FREQ=YEARLY;BYMONTH=11;BYDAY=1SU
END:STANDARD
END:VTIMEZONE
BEGIN:VEVENT
UID:2228296:Event:2026236
DTSTAMP:20260422T224948Z
SUMMARY:Seven Important Life Lessons Slot Games Taught Us
DESCRIPTION:The arrival of on-line gambling establishments has dramati
 cally altered the means individuals bet, providing an extra easily acc
 essible and varied variety of play casino online to gamers around the 
 globe. Europa777 has positioned itself as a premier online gaming syst
 em, offering an extensive choice of games that satisfy all preferences
 . From traditional card games to contemporary slot games, there is som
 ething for every single kind of casino player. The ease of being able 
 to play from the comfort of your own home, integrated with the enjoyme
 nt of possibly winning huge, has made online gambling establishments l
 ike Europa777 progressively prominent.\nCasino slots are amongst one o
 f the most beloved games at on the internet casino sites, and their ch
 arm is evident in the wide array offered at Europa777. These video gam
 es provide a basic yet appealing means to test your good luck, with ea
 ch spin of the reels bringing the possibility of a big win. Europa777'
 s collection of online slots consists of both timeless three-reel game
 s and more advanced video clip slots, making certain that there's some
 thing for every single gamer. The vibrant graphics, amusing motifs, an
 d possibility for significant payments make casino slots a go-to choic
 e for lots of players looking for excitement and rewards.\nThe jackpot
  lottery is one more major attraction for those that dream of hitting 
 it big. This game provides gamers the opportunity to win huge amounts 
 of cash, commonly with simply a single ticket. The adventure of joinin
 g the jackpot lottery lies in its simplicity and the life-altering pos
 sibility it holds. With the possibility of ending up being an instant 
 millionaire, it's no surprise that many players are drawn to this game
 . Europa777 makes it very easy to obtain included, enabling gamers to 
 get involved from the comfort of their very own homes.\n\nFor more inf
 ormation visit https://healingxchange.ning.com/events/seven-important-
 life-lessons-slot-games-taught-us
DTSTART;TZID=America/Los_Angeles:20250905T111500
DTEND;TZID=America/Los_Angeles:20250905T191500
CATEGORIES:casino, games
LOCATION:usa
WEBSITE:https://europa777.com/
URL:https://europa777.com/
CONTACT:
ORGANIZER;CN="Hathinther 	Swianroth":https://healingxchange.ning.com/p
 rofile/HathintherSwianroth
ATTACH;FMTTYPE="image/jpeg":
ATTENDEE;ROLE=REQ-PARTICIPANT;PARTSTAT=ACCEPTED;RSVP=TRUE;CN="Hathinth
 er 	Swianroth":https://healingxchange.ning.com/profile/HathintherSwian
 roth
END:VEVENT
END:VCALENDAR
