BEGIN:VCALENDAR
PRODID:NingEventWidget-v1
VERSION:2.0
METHOD:PUBLISH
BEGIN:VTIMEZONE
TZID:America/Los_Angeles
X-LIC-LOCATION:America/Los_Angeles
BEGIN:DAYLIGHT
TZOFFSETFROM:-0800
TZOFFSETTO:-0700
TZNAME:PDT
DTSTART:19700308T020000
RRULE:FREQ=YEARLY;BYMONTH=3;BYDAY=2SU
END:DAYLIGHT
BEGIN:STANDARD
TZOFFSETFROM:-0700
TZOFFSETTO:-0800
TZNAME:PST
DTSTART:19701101T020000
RRULE:FREQ=YEARLY;BYMONTH=11;BYDAY=1SU
END:STANDARD
END:VTIMEZONE
BEGIN:VEVENT
UID:2228296:Event:1186079
DTSTAMP:20260419T115838Z
SUMMARY:Sugar Sergio Busquets España Camiseta
DESCRIPTION:If you have so weeks off work there always arises the issu
 e – the way to spend a trip away from everyday life Paco Alcacer Esp
 aña Camiseta , the hustle and pesky friends? Would you like to relax 
 alone or together with a family mber, or might be with the entire fami
 ly, the option is apparent the ft that resort is the ideal form of rec
 reation. That you are remaining in a fortable hotel, sunbathing on the
  beh or outdoor tivities caught up, created a better impression!\n\nWh
 ere to find a hotel? This is usually the hardest in the planning of yo
 ur travels abroad. One of the most important ponents of great vation w
 ill be the right range of hotel. We quite often don’t atth much sign
 ificance to this point, relying on the pany Alvaro Morata España Cami
 seta , so when we confronted with so inconvenience, we start to ascert
 ain the guilty. Consequently, as opposed to having to relax and enjoy 
 every mont of the journey, we are nervous and irritable. Deciding on t
 he best hotel – it is Seventy Percent a great stay!\n\nWhatever will
  be the type of holiday you decide on you must still look closely at t
 hings such as discounts or special offers, as well as on the optional 
 services. Closely familiar with all the special offers and don’t try
  to pick the first available offer that best suits you. Point Pleasant
  Resort St Thomas this is tually the perfect spot to relax where you g
 ain strength and spend fun ti.\n\nPoint Pleasant Resort St Thomas reso
 rt is enclosed by tropical gardens, an outdoor swimming pool. It gives
  you private aess to the behes and Pineapple Sugar Sergio Busquets Esp
 aña Camiseta , free uttle service and equipnt for aquatic sports. For
  the most intriguing and information you can read so of Point Pleasant
  Resort review.\n\nFor more information visit https://healingxchange.n
 ing.com/events/sugar-sergio-busquets-espa-a-camiseta
DTSTART;TZID=America/Los_Angeles:20160126T180000
DTEND;TZID=America/Los_Angeles:20160126T190000
CATEGORIES:afdsaf
LOCATION:ghgf
WEBSITE:
URL:
CONTACT:
ORGANIZER;CN=Yunxiaocuo:https://healingxchange.ning.com/profile/Yunxia
 ocuo
ATTACH;FMTTYPE="image/jpeg":
ATTENDEE;ROLE=REQ-PARTICIPANT;PARTSTAT=ACCEPTED;RSVP=TRUE;CN=Yunxiaocu
 o:https://healingxchange.ning.com/profile/Yunxiaocuo
END:VEVENT
END:VCALENDAR
